BEGIN:VCALENDAR
VERSION:2.0
PRODID:-//Squarespace Inc/Squarespace 6//v6//EN
BEGIN:VEVENT
UID:5e3f50f52c1d2d73680a047e@squarespace.com
DTSTAMP:20200209T003654Z
DTSTART:20200905T160000Z
DTEND:20200905T210000Z
SUMMARY:Grand Finals
GEO:-27.599334;153.146038
LOCATION:Underwood Park Netball Association\, 956 - 980 Underwood Road\, Pr
 iestdale\, QLD\, 4127\, Australia
END:VEVENT
END:VCALENDAR
