BEGIN:VCALENDAR
VERSION:2.0
PRODID:-//Squarespace Inc/Squarespace 6//v6//EN
BEGIN:VEVENT
UID:5e3f5049f875f52b566616e1@squarespace.com
DTSTAMP:20200209T003524Z
DTSTART:20200808T160000Z
DTEND:20200808T210000Z
SUMMARY:Round 13
GEO:-27.599334;153.146038
LOCATION:Underwood Park Netball Association\, 956 - 980 Underwood Road\, Pr
 iestdale\, QLD\, 4127\, Australia
END:VEVENT
END:VCALENDAR
