BEGIN:VCALENDAR
VERSION:2.0
PRODID:-//Squarespace Inc/Squarespace 6//v6//EN
BEGIN:VEVENT
UID:5e3f50a02c1d2d736809f650@squarespace.com
DTSTAMP:20200209T003613Z
DTSTART:20200822T160000Z
DTEND:20200822T210000Z
SUMMARY:Semi Finals
GEO:-27.599334;153.146038
LOCATION:Underwodd Park Netball Association\, 956 - 980 Underwood Road\, Pr
 iestdale\, QLD\, 4127\, Australia
END:VEVENT
END:VCALENDAR
