BEGIN:VCALENDAR
VERSION:2.0
PRODID:-//Squarespace Inc/Squarespace 6//v6//EN
BEGIN:VEVENT
UID:5e3f4fcb2c320258131bc4e2@squarespace.com
DTSTAMP:20200209T003459Z
DTSTART:20200802T110000Z
DTEND:20200802T210000Z
SUMMARY:Club Carnival at UPNA
GEO:-27.599334;153.146038
LOCATION:Underwood Park Netball Association\, 956 - 980 Underwood Road\, Pr
 iestdale\, QLD\, 4127\, Australia
END:VEVENT
END:VCALENDAR
