BEGIN:VCALENDAR
VERSION:2.0
PRODID:-//Squarespace Inc/Squarespace 6//v6//EN
BEGIN:VEVENT
UID:5e3f50694b6b8940ee8b26fc@squarespace.com
DTSTAMP:20200209T003550Z
DTSTART:20200815T160000Z
DTEND:20200815T210000Z
SUMMARY:Round 14 &amp\; NetSetGo Break up
GEO:-27.599334;153.146038
LOCATION:Underwood Park Netball Association\, 956 - 980 Underwood Road\, Pr
 iestdale\, QLD\, 4127\, Australia
END:VEVENT
END:VCALENDAR
