BEGIN:VCALENDAR
VERSION:2.0
PRODID:-//Squarespace Inc/Squarespace 6//v6//EN
BEGIN:VEVENT
UID:5e3f4f165af4111d70f1007f@squarespace.com
DTSTAMP:20200209T001609Z
DTSTART:20200704T160000Z
DTEND:20200707T220000Z
SUMMARY:REP State Age
END:VEVENT
END:VCALENDAR
