BEGIN:VCALENDAR
VERSION:2.0
PRODID:-//Squarespace Inc/Squarespace 6//v6//EN
BEGIN:VEVENT
UID:5e3f4f5f5af4111d70f10945@squarespace.com
DTSTAMP:20200209T003353Z
DTSTART:20200718T160000Z
DTEND:20200718T210000Z
SUMMARY:Round 10
GEO:-27.599334;153.146038
LOCATION:Underwood Park Netball Association\, 956 - 980 Underwood Road\, Pr
 iestdale\, QLD\, 4127\, Australia
END:VEVENT
END:VCALENDAR
