BEGIN:VCALENDAR
VERSION:2.0
PRODID:-//Squarespace Inc/Squarespace 6//v6//EN
BEGIN:VEVENT
UID:5e3f4e83e14ad269a8e7bb0d@squarespace.com
DTSTAMP:20200209T003245Z
DTSTART:20200606T160000Z
DTEND:20200606T210000Z
SUMMARY:Round 8 - WEAR PINK DAY
GEO:-27.599334;153.146038
LOCATION:Underwood Park Netball Association\, 956 - 980 Underwood Road\, Pr
 iestdale\, QLD\, 4127\, Australia
END:VEVENT
END:VCALENDAR
