BEGIN:VCALENDAR
VERSION:2.0
PRODID:-//Squarespace Inc/Squarespace 6//v6//EN
BEGIN:VEVENT
UID:5e3f4ed82c1d2d736809986c@squarespace.com
DTSTAMP:20200209T003333Z
DTSTART:20200620T160000Z
DTEND:20200620T210000Z
SUMMARY:Wet Weather Make up Day - (if needed)
GEO:-27.599334;153.146038
LOCATION:Underwood Park Netball Association\, 956 - 980 Underwood Road\, Pr
 iestdale\, QLD\, 4127\, Australia
END:VEVENT
END:VCALENDAR
