BEGIN:VCALENDAR
VERSION:2.0
PRODID:-//Squarespace Inc/Squarespace 6//v6//EN
BEGIN:VEVENT
UID:5e3f4e29c0b991484409f2ce@squarespace.com
DTSTAMP:20200209T003150Z
DTSTART:20200523T160000Z
DTEND:20200523T210000Z
SUMMARY:Round 6
GEO:-27.599334;153.146038
LOCATION:Underwood Park Netball Association\, 956 - 980 Underwood Road\, Pr
 iestdale\, QLD\, 4127\, Australia
END:VEVENT
END:VCALENDAR
