BEGIN:VCALENDAR
VERSION:2.0
PRODID:-//Squarespace Inc/Squarespace 6//v6//EN
BEGIN:VEVENT
UID:5e3f4d8ebab6ba3cfa2186ac@squarespace.com
DTSTAMP:20200209T003118Z
DTSTART:20200516T160000Z
DTEND:20200516T210000Z
SUMMARY:Round 5
GEO:-27.599334;153.146038
LOCATION:Underwood Park Netball Association\, 956 - 980 Underwood Road\, Pr
 iestdale\, QLD\, 4127\, Australia
END:VEVENT
END:VCALENDAR
