BEGIN:VCALENDAR
VERSION:2.0
PRODID:-//Squarespace Inc/Squarespace 6//v6//EN
BEGIN:VEVENT
UID:5e17a829ce3f013fa218034e@squarespace.com
DTSTAMP:20200209T003045Z
DTSTART:20200405T110000Z
DTEND:20200405T210000Z
SUMMARY:UPNA Representative Carnival
GEO:-27.599334;153.146038
LOCATION:Underwood Park Netball Association\, 956 - 980 Underwood Rd  Pries
 tdale\, QLD\, 4123
END:VEVENT
END:VCALENDAR
