BEGIN:VCALENDAR
VERSION:2.0
PRODID:-//Squarespace Inc/Squarespace 6//v6//EN
BEGIN:VEVENT
UID:5e3f4d1bd8d2da072e64772c@squarespace.com
DTSTAMP:20200209T003000Z
DTSTART:20200404T160000Z
DTEND:20200404T170000Z
SUMMARY:Round 3
GEO:-27.599334;153.146038
LOCATION:Underwood Park Netball Assocation\, 956 - 980 Underwood Road\, Pri
 estdale\, QLD\, 4127\, Australia
END:VEVENT
END:VCALENDAR
