BEGIN:VCALENDAR
VERSION:2.0
PRODID:-//Squarespace Inc/Squarespace 6//v6//EN
BEGIN:VEVENT
UID:5e3f4c532c320258131b3547@squarespace.com
DTSTAMP:20200209T002729Z
DTSTART:20200307T190000Z
DTEND:20200308T000000Z
SUMMARY:UPNA Grading
GEO:-27.599334;153.146038
LOCATION:Underwood Park Netball Association\, 956 - 980 Underwood Rd\, Prie
 stdale\, QLD 4123\, Australia
END:VEVENT
END:VCALENDAR
