BEGIN:VCALENDAR
VERSION:2.0
PRODID:-//Squarespace Inc/Squarespace 6//v6//EN
BEGIN:VEVENT
UID:5e3f4cef2c320258131b4bff@squarespace.com
DTSTAMP:20200209T002931Z
DTSTART:20200328T170000Z
DTEND:20200328T210000Z
SUMMARY:Round 2
GEO:-27.599334;153.146038
LOCATION:Underwood Park Netball Association\, 956 - 980 Underwood Rd\, Prie
 stdale\, QLD 4123\, Australia
END:VEVENT
END:VCALENDAR
