BEGIN:VCALENDAR
VERSION:2.0
PRODID:-//Squarespace Inc/Squarespace 6//v6//EN
BEGIN:VEVENT
UID:5e3f4ca4d8d2da072e64646f@squarespace.com
DTSTAMP:20200209T002856Z
DTSTART:20200321T150000Z
DTEND:20200321T210000Z
SUMMARY:Round 1 and NetSetGo commences
GEO:-27.599334;153.146038
LOCATION:Underwood Park Netball Association\, 956 - 980 Underwood Rd\, Prie
 stdale\, QLD 4123\, Australia
END:VEVENT
END:VCALENDAR
