BEGIN:VCALENDAR
VERSION:2.0
PRODID:-//Squarespace Inc/Squarespace 6//v6//EN
BEGIN:VEVENT
UID:5e3f4a9f120d25193d51ab4a@squarespace.com
DTSTAMP:20200209T003752Z
DTSTART:20200220T223000Z
DTEND:20200221T010000Z
SUMMARY:2nd Cadet Grading
GEO:40.484712;-80.195991
LOCATION:Logan Netball Association\, 151 Ewing Road\, Woodridge\, Qld
END:VEVENT
END:VCALENDAR
