BEGIN:VCALENDAR
VERSION:2.0
PRODID:-//Squarespace Inc/Squarespace 6//v6//EN
BEGIN:VEVENT
UID:5e3f4c7a2ed8a65672292a98@squarespace.com
DTSTAMP:20200209T002825Z
DTSTART:20200314T180000Z
DTEND:20200314T230000Z
SUMMARY:UPNA Grading - DHNC on setup\, pack up and Canteen
GEO:-27.599334;153.146038
LOCATION:Underwood Park Netball Association\, 956 - 980 Underwood Road\, Pr
 iestdale\, QLD\, 4127\, Australia
END:VEVENT
END:VCALENDAR
