BEGIN:VCALENDAR
VERSION:2.0
PRODID:-//Squarespace Inc/Squarespace 6//v6//EN
BEGIN:VEVENT
UID:5e3f4a1b120d25193d518c55@squarespace.com
DTSTAMP:20200209T003812Z
DTSTART:20200213T220000Z
DTEND:20200214T010000Z
SUMMARY:Cadet Grading
GEO:40.484712;-80.195991
LOCATION:Logan Netball Association\, 151 Ewing Road\, Woodridge\, Qld
END:VEVENT
END:VCALENDAR
