BEGIN:VCALENDAR
VERSION:2.0
PRODID:-//Squarespace Inc/Squarespace 6//v6//EN
BEGIN:VEVENT
UID:5e17a762ce3f013fa217e06d@squarespace.com
DTSTAMP:20200113T121636Z
DTSTART:20200208T140000Z
DTEND:20200208T170000Z
SUMMARY:Sign On Day
GEO:-27.599334;153.146038
LOCATION:Underwood Park Netball Association\, 956 - 980 Underwood Rd  Pries
 tdale\, QLD\, 4123
END:VEVENT
END:VCALENDAR
