BEGIN:VCALENDAR
VERSION:2.0
PRODID:-//Squarespace Inc/Squarespace 6//v6//EN
BEGIN:VEVENT
UID:5e3f51122c1d2d73680a080e@squarespace.com
DTSTAMP:20200209T003717Z
DTSTART:20201007T210000Z
DTEND:20201008T003000Z
SUMMARY:Night Season commences
GEO:-27.599334;153.146038
LOCATION:Underwood Park Netball Association\, 956 - 980 Underwood Road\, Pr
 iestdale\, QLD\, 4127\, Australia
END:VEVENT
END:VCALENDAR
