BEGIN:VCALENDAR
VERSION:2.0
PRODID:-//Squarespace Inc/Squarespace 6//v6//EN
BEGIN:VEVENT
UID:5c37c5e8f950b7f8ab028d02@squarespace.com
DTSTAMP:20190110T222409Z
DTSTART:20190907T170000Z
DTEND:20190907T200000Z
SUMMARY:Grand Finals
GEO:40.720756;-74.000761
LOCATION:Underwood Park Netball Association\, 549 Underwood Road\, Rochedal
 e\, QLD\, 4123\, Australia
END:VEVENT
END:VCALENDAR
