BEGIN:VCALENDAR
VERSION:2.0
PRODID:-//Squarespace Inc/Squarespace 6//v6//EN
BEGIN:VEVENT
UID:5c37c57f70a6ad1f6e51e883@squarespace.com
DTSTAMP:20190110T222326Z
DTSTART:20190831T170000Z
DTEND:20190831T200000Z
SUMMARY:Preliminary Finals
GEO:-27.600092;153.146465
LOCATION:Underwood Park Netball Association\, 549 Underwood Road\, Rochedal
 e\, QLD\, 4123\, Australia
END:VEVENT
END:VCALENDAR
