BEGIN:VCALENDAR
VERSION:2.0
PRODID:-//Squarespace Inc/Squarespace 6//v6//EN
BEGIN:VEVENT
UID:5c37c45070a6ad1f6e51cef3@squarespace.com
DTSTAMP:20190110T221724Z
DTSTART:20190803T160000Z
DTEND:20190803T210000Z
SUMMARY:Round 12 Fixture
GEO:40.720756;-74.000761
LOCATION:Underwood Park Netball Association\, 549 Underwood Road\, Rochedal
 e\, QLD\, 4123\, Australia
END:VEVENT
END:VCALENDAR
