BEGIN:VCALENDAR
VERSION:2.0
PRODID:-//Squarespace Inc/Squarespace 6//v6//EN
BEGIN:VEVENT
UID:5c37c5586d2a735119d5f7a7@squarespace.com
DTSTAMP:20190110T222815Z
DTSTART:20190824T160000Z
DTEND:20190824T210000Z
SUMMARY:Semi Finals
GEO:-27.600092;153.146465
LOCATION:Underwood Park Netball Association\, 549 Underwood Road\, Rochedal
 e\, QLD\, 4123\, Australia
END:VEVENT
END:VCALENDAR
