BEGIN:VCALENDAR
VERSION:2.0
PRODID:-//Squarespace Inc/Squarespace 6//v6//EN
BEGIN:VEVENT
UID:5c37c52a562fa7f62de43490@squarespace.com
DTSTAMP:20190110T222101Z
DTSTART:20190817T160000Z
DTEND:20190817T210000Z
SUMMARY:Round 14 Fixtures
GEO:40.720756;-74.000761
LOCATION:Underwood Park Netball Association\, 549 Underwood Road\, Rochedal
 e\, QLD\, 4123\, Australia
END:VEVENT
END:VCALENDAR
