BEGIN:VCALENDAR
VERSION:2.0
PRODID:-//Squarespace Inc/Squarespace 6//v6//EN
BEGIN:VEVENT
UID:5c37c4ec88251bf4ea0343eb@squarespace.com
DTSTAMP:20190110T222011Z
DTSTART:20190817T163000Z
DTEND:20190817T173000Z
SUMMARY:Net Set Go Break Up
GEO:-27.600092;153.146465
LOCATION:Underwood Park Netball Association\, 549 Underwood Road\, Rochedal
 e\, QLD\, 4123\, Australia
END:VEVENT
END:VCALENDAR
