BEGIN:VCALENDAR
VERSION:2.0
PRODID:-//Squarespace Inc/Squarespace 6//v6//EN
BEGIN:VEVENT
UID:5c37c4b1aa4a999c89b504dd@squarespace.com
DTSTAMP:20190110T221910Z
DTSTART:20190811T120000Z
DTEND:20190811T200000Z
SUMMARY:UPNA Club Carnival
GEO:40.720756;-74.000761
LOCATION:Underwood Park Netball Association\, 549 Underwood Road\, Rochedal
 e\, QLD\, 4123\, Australia
END:VEVENT
END:VCALENDAR
