BEGIN:VCALENDAR
VERSION:2.0
PRODID:-//Squarespace Inc/Squarespace 6//v6//EN
BEGIN:VEVENT
UID:5c37c48170a6ad1f6e51d37c@squarespace.com
DTSTAMP:20190110T221810Z
DTSTART:20190810T160000Z
DTEND:20190810T210000Z
SUMMARY:Round 13 Fixtures
GEO:-27.600092;153.146465
LOCATION:Underwood Park Netball Association\, 549 Underwood Road\, Rochedal
 e\, QLD\, 4123\, Australia
END:VEVENT
END:VCALENDAR
