BEGIN:VCALENDAR
VERSION:2.0
PRODID:-//Squarespace Inc/Squarespace 6//v6//EN
BEGIN:VEVENT
UID:5c37c3ee40ec9a4b3fd0c75f@squarespace.com
DTSTAMP:20190110T221540Z
DTSTART:20190720T160000Z
DTEND:20190720T210000Z
SUMMARY:Round 10 Fixtures
GEO:40.720756;-74.000761
LOCATION:Underwood Park Netball Association\, 549 Underwood Road\, Rochedal
 e\, QLD\, 4123\, Australia
END:VEVENT
END:VCALENDAR
