BEGIN:VCALENDAR
VERSION:2.0
PRODID:-//Squarespace Inc/Squarespace 6//v6//EN
BEGIN:VEVENT
UID:5c37c32003ce6456c32c3a28@squarespace.com
DTSTAMP:20190110T221219Z
DTSTART:20190608T160000Z
DTEND:20190608T210000Z
SUMMARY:Round 8 Fixtures
GEO:40.720756;-74.000761
LOCATION:Underwood Park Netball Association\, 549 Underwood Road\, Rochedal
 e\, QLD\, 4123\, Australia
END:VEVENT
END:VCALENDAR
