BEGIN:VCALENDAR
VERSION:2.0
PRODID:-//Squarespace Inc/Squarespace 6//v6//EN
BEGIN:VEVENT
UID:5c37c3a0898583d3698c809f@squarespace.com
DTSTAMP:20190110T222726Z
DTSTART:20190622T160000Z
DTEND:20190622T170000Z
SUMMARY:Wet Weather make up day (if needed)
GEO:40.720756;-74.000761
LOCATION:Underwood Park Netball Association\, 549 Underwood Road\, Rochedal
 e\, QLD\, 4123\, Australia
END:VEVENT
END:VCALENDAR
