BEGIN:VCALENDAR
VERSION:2.0
PRODID:-//Squarespace Inc/Squarespace 6//v6//EN
BEGIN:VEVENT
UID:5c37c351352f53570440d2cf@squarespace.com
DTSTAMP:20190110T221310Z
DTSTART:20190615T160000Z
DTEND:20190615T210000Z
SUMMARY:Round 9 Fixtures
GEO:-27.600092;153.146465
LOCATION:Underwood Park Netball Association\, 549 Underwood Road\, Rochedal
 e\, QLD\, 4123\, Australia
END:VEVENT
END:VCALENDAR
