BEGIN:VCALENDAR
VERSION:2.0
PRODID:-//Squarespace Inc/Squarespace 6//v6//EN
BEGIN:VEVENT
UID:5c37c2c6032be4b1bbec19e8@squarespace.com
DTSTAMP:20190110T221109Z
DTSTART:20190601T160000Z
DTEND:20190601T210000Z
SUMMARY:Round 7 Fixtures
GEO:-27.600092;153.146465
LOCATION:Underwood Park Netball Association\, 549 Underwood Road\, Rochedal
 e\, QLD\, 4123\, Australia
END:VEVENT
END:VCALENDAR
