BEGIN:VCALENDAR
VERSION:2.0
PRODID:-//Squarespace Inc/Squarespace 6//v6//EN
BEGIN:VEVENT
UID:5c37c2634ae2374f1584a1a2@squarespace.com
DTSTAMP:20190110T220936Z
DTSTART:20190525T160000Z
DTEND:20190525T210000Z
SUMMARY:Round 6 Fixtures
GEO:40.720756;-74.000761
LOCATION:Underwood Park Netball Association\, 549 Underwood Road\, Rochedal
 e\, QLD\, 4123\, Australia
END:VEVENT
END:VCALENDAR
