BEGIN:VCALENDAR
VERSION:2.0
PRODID:-//Squarespace Inc/Squarespace 6//v6//EN
BEGIN:VEVENT
UID:5c37b9dcc2241b6f50d68fd4@squarespace.com
DTSTAMP:20190110T213250Z
DTSTART:20190302T190000Z
DTEND:20190303T000000Z
SUMMARY:UPNA Team Grading Ages 11-17
GEO:-27.600092;153.146465
LOCATION:Underwood Park Netball Association\, 549 Underwood Road\, Rochedal
 e\, QLD\, 4123\, Australia
END:VEVENT
END:VCALENDAR
