BEGIN:VCALENDAR
VERSION:2.0
PRODID:-//Squarespace Inc/Squarespace 6//v6//EN
BEGIN:VEVENT
UID:5c37c01b562fa7f62de3d84c@squarespace.com
DTSTAMP:20190110T220352Z
DTSTART:20190316T160000Z
DTEND:20190316T210000Z
SUMMARY:Round 1 Fixtures
GEO:-27.600092;153.146465
LOCATION:Underwood Park Netball Association\, 549 Underwood Road\, Rochedal
 e\, QLD\, 4123\, Australia
END:VEVENT
END:VCALENDAR
