BEGIN:VCALENDAR
VERSION:2.0
PRODID:-//Squarespace Inc/Squarespace 6//v6//EN
BEGIN:VEVENT
UID:5c37bfd021c67c95e3932dc1@squarespace.com
DTSTAMP:20190110T222607Z
DTSTART:20190316T150000Z
DTEND:20190316T160000Z
SUMMARY:Net Set Go Commences
GEO:40.720756;-74.000761
LOCATION:Underwood Park Netball Association\, 549 Underwood Road\, Rochedal
 e\, QLD\, 4123\, Australia
END:VEVENT
END:VCALENDAR
