BEGIN:VCALENDAR
VERSION:2.0
PRODID:-//Squarespace Inc/Squarespace 6//v6//EN
BEGIN:VEVENT
UID:5c37b51021c67c95e392785e@squarespace.com
DTSTAMP:20190110T211846Z
DTSTART:20190208T223000Z
DTEND:20190209T010000Z
SUMMARY:Daisy Hill Grading Age 11-17
GEO:-27.600092;153.146465
LOCATION:Underwood Park Netball Association\, 549 Underwood Road\, Rochedal
 e\, QLD\, 4123\, Australia
END:VEVENT
END:VCALENDAR
