BEGIN:VCALENDAR
VERSION:2.0
PRODID:-//Squarespace Inc/Squarespace 6//v6//EN
BEGIN:VEVENT
UID:5c37b73e21c67c95e3929f23@squarespace.com
DTSTAMP:20190110T212220Z
DTSTART:20190207T220000Z
DTEND:20190207T233000Z
SUMMARY:Pre-Season Training
GEO:-27.600092;153.146465
LOCATION:Underwood Park Netball Association\, 549 Underwood Road\, Rochedal
 e\, QLD\, 4123\, Australia
END:VEVENT
END:VCALENDAR
