BEGIN:VCALENDAR
VERSION:2.0
PRODID:-//Squarespace Inc/Squarespace 6//v6//EN
BEGIN:VEVENT
UID:5c37b7b78a922d304f0c5627@squarespace.com
DTSTAMP:20190110T212431Z
DTSTART:20190223T190000Z
DTEND:20190224T000000Z
SUMMARY:UPNA Team Grading Ages 11-17
GEO:40.720756;-74.000761
LOCATION:Underwood Park Netball Association\, 549 Underwood Road\, Rochedal
 e\, QLD\, 4123\, Australia
END:VEVENT
END:VCALENDAR
