BEGIN:VCALENDAR
VERSION:2.0
PRODID:-//Squarespace Inc/Squarespace 6//v6//EN
BEGIN:VEVENT
UID:5c37b565aa4a993643e4c949@squarespace.com
DTSTAMP:20190110T211811Z
DTSTART:20190202T140000Z
DTEND:20190202T170000Z
SUMMARY:Player Sign On Day
GEO:40.720756;-74.000761
LOCATION:Underwood Park Netball Association\, 549 Underwood Road\, Rochedal
 e\, QLD\, 4123\, Australia
END:VEVENT
END:VCALENDAR
