BEGIN:VCALENDAR
VERSION:2.0
PRODID:-//Squarespace Inc/Squarespace 6//v6//EN
BEGIN:VEVENT
UID:5c37b6d4575d1f96ba1f3401@squarespace.com
DTSTAMP:20190110T212017Z
DTSTART:20190107T220000Z
DTEND:20190107T233000Z
SUMMARY:Pre-Season Training
GEO:-27.600092;153.146465
LOCATION:Underwood Park Netball Association\, 549 Underwood Road\, Rochedal
 e\, QLD\, 4123\, Australia
END:VEVENT
END:VCALENDAR
