BEGIN:VCALENDAR
VERSION:2.0
PRODID:-//Squarespace Inc/Squarespace 6//v6//EN
BEGIN:VEVENT
UID:5c37b5f04ae2374f1583c902@squarespace.com
DTSTAMP:20190110T211729Z
DTSTART:20190131T220000Z
DTEND:20190131T233000Z
SUMMARY:Pre-Season Training
GEO:-27.595745;153.124292
LOCATION:Underwood Park Netball Association\, 549 Underwood Road\, Rochedal
 e\, QLD\, 4123\, Australia
END:VEVENT
END:VCALENDAR
