BEGIN:VCALENDAR
VERSION:2.0
PRODID:-//Squarespace Inc/Squarespace 6//v6//EN
BEGIN:VEVENT
UID:5a7416160d9297e98a559e82@squarespace.com
DTSTAMP:20180202T074203Z
DTSTART:20180908T160000Z
DTEND:20180908T210000Z
SUMMARY:Grand Finals
END:VEVENT
END:VCALENDAR
