BEGIN:VCALENDAR
VERSION:2.0
PRODID:-//Squarespace Inc/Squarespace 6//v6//EN
BEGIN:VEVENT
UID:5a7415dee4966b6754a7784c@squarespace.com
DTSTAMP:20180202T074058Z
DTSTART:20180901T160000Z
DTEND:20180901T210000Z
SUMMARY:Prelim Finals
END:VEVENT
END:VCALENDAR
