BEGIN:VCALENDAR
VERSION:2.0
PRODID:-//Squarespace Inc/Squarespace 6//v6//EN
BEGIN:VEVENT
UID:5a583be4f9619a75a137763d@squarespace.com
DTSTAMP:20180112T043917Z
DTSTART:20180804T160000Z
DTEND:20180804T210000Z
SUMMARY:Round 12 Fixtures 
END:VEVENT
END:VCALENDAR
