BEGIN:VCALENDAR
VERSION:2.0
PRODID:-//Squarespace Inc/Squarespace 6//v6//EN
BEGIN:VEVENT
UID:5a741522e4966b6754a7624f@squarespace.com
DTSTAMP:20180202T074004Z
DTSTART:20180825T160000Z
DTEND:20180825T210000Z
SUMMARY:Semi Finals 
END:VEVENT
END:VCALENDAR
