BEGIN:VCALENDAR
VERSION:2.0
PRODID:-//Squarespace Inc/Squarespace 6//v6//EN
BEGIN:VEVENT
UID:5a583c234192026440eeaec9@squarespace.com
DTSTAMP:20180112T044032Z
DTSTART:20180818T160000Z
DTEND:20180818T210000Z
SUMMARY:Round 14 Fixtures 
END:VEVENT
END:VCALENDAR
