BEGIN:VCALENDAR
VERSION:2.0
PRODID:-//Squarespace Inc/Squarespace 6//v6//EN
BEGIN:VEVENT
UID:5a583c9071c10baff71856f8@squarespace.com
DTSTAMP:20180112T044221Z
DTSTART:20180818T040000Z
DTEND:20180818T050000Z
SUMMARY:NetSetGo Breakup
END:VEVENT
END:VCALENDAR
